BEGIN:VCALENDAR
VERSION:2.0
PRODID:icalendar-ruby
CALSCALE:GREGORIAN
METHOD:PUBLISH
BEGIN:VEVENT
DTSTAMP:20260422T180319Z
UID:151-502341@knoxvilleunited.tithelysetup2.com
DTSTART:20270127T230000Z
DTEND:20270128T000000Z
CLASS:PUBLIC
CREATED:20260422T104540
DESCRIPTION:
LAST-MODIFIED:20260422T104540
LOCATION:
SUMMARY:Prayer Meeting
URL;VALUE=URI:https://www.knoxvilleumc.org/events/prayer-meeting--151/2027-
 01-27
END:VEVENT
END:VCALENDAR
