BEGIN:VCALENDAR
VERSION:2.0
PRODID:icalendar-ruby
CALSCALE:GREGORIAN
METHOD:PUBLISH
BEGIN:VEVENT
DTSTAMP:20260422T192329Z
UID:151-502910@knoxvilleunited.tithelysetup2.com
DTSTART:20270203T230000Z
DTEND:20270204T000000Z
CLASS:PUBLIC
CREATED:20260422T134009
DESCRIPTION:
LAST-MODIFIED:20260422T134009
LOCATION:
SUMMARY:Prayer Meeting
URL;VALUE=URI:https://www.knoxvilleumc.org/events/prayer-meeting--151/2027-
 02-03
END:VEVENT
END:VCALENDAR
