BEGIN:VCALENDAR
VERSION:2.0
PRODID:icalendar-ruby
CALSCALE:GREGORIAN
METHOD:PUBLISH
BEGIN:VEVENT
DTSTAMP:20260422T220440Z
UID:151-503480@knoxvilleunited.tithelysetup2.com
DTSTART:20270217T230000Z
DTEND:20270218T000000Z
CLASS:PUBLIC
CREATED:20260422T163544
DESCRIPTION:
LAST-MODIFIED:20260422T163544
LOCATION:
SUMMARY:Prayer Meeting
URL;VALUE=URI:https://www.knoxvilleumc.org/events/prayer-meeting--151/2027-
 02-17
END:VEVENT
END:VCALENDAR
