BEGIN:VCALENDAR
VERSION:2.0
PRODID:icalendar-ruby
CALSCALE:GREGORIAN
METHOD:PUBLISH
BEGIN:VEVENT
DTSTAMP:20260423T050539Z
UID:151-504626@knoxvilleunited.tithelysetup2.com
DTSTART:20270324T220000Z
DTEND:20270324T230000Z
CLASS:PUBLIC
CREATED:20260422T222135
DESCRIPTION:
LAST-MODIFIED:20260422T222135
LOCATION:
SUMMARY:Prayer Meeting
URL;VALUE=URI:https://www.knoxvilleumc.org/events/prayer-meeting--151/2027-
 03-24
END:VEVENT
END:VCALENDAR
