BEGIN:VCALENDAR
VERSION:2.0
PRODID:icalendar-ruby
CALSCALE:GREGORIAN
METHOD:PUBLISH
BEGIN:VEVENT
DTSTAMP:20260424T171502Z
UID:21-509095@knoxvilleunited.tithelysetup2.com
DTSTART:20260923T220000Z
DTEND:20260923T223000Z
CLASS:PUBLIC
CREATED:20260424T104403
DESCRIPTION:
LAST-MODIFIED:20260424T104403
LOCATION:
SUMMARY:Prayer Meeting
URL;VALUE=URI:https://www.knoxvilleumc.org/events/prayer-meeting/2026-09-23
END:VEVENT
END:VCALENDAR
