BEGIN:VCALENDAR
VERSION:2.0
PRODID:icalendar-ruby
CALSCALE:GREGORIAN
METHOD:PUBLISH
BEGIN:VEVENT
DTSTAMP:20260421T112223Z
UID:49-432473@knoxvilleunited.tithelysetup2.com
DTSTART:20260424T230000Z
DTEND:20260425T010000Z
CLASS:PUBLIC
CREATED:20260401T105115
DESCRIPTION:
LAST-MODIFIED:20260401T105115
LOCATION:
SUMMARY:Spring Celebration- hosted by MW
URL;VALUE=URI:https://www.knoxvilleumc.org/events/spring-celebration-hosted
 -by-mw/2026-04-24
END:VEVENT
END:VCALENDAR
