BEGIN:VCALENDAR
VERSION:2.0
PRODID:icalendar-ruby
CALSCALE:GREGORIAN
METHOD:PUBLISH
BEGIN:VEVENT
DTSTAMP:20260421T165840Z
UID:144-498865@knoxvilleunited.tithelysetup2.com
DTSTART:20260927T150000Z
DTEND:20260927T160000Z
CLASS:PUBLIC
CREATED:20260421T100832
DESCRIPTION:
LAST-MODIFIED:20260421T100832
LOCATION:
SUMMARY:Sunday School
URL;VALUE=URI:https://www.knoxvilleumc.org/events/sunday-school--144/2026-0
 9-27
END:VEVENT
END:VCALENDAR
