BEGIN:VCALENDAR
VERSION:2.0
PRODID:icalendar-ruby
CALSCALE:GREGORIAN
METHOD:PUBLISH
BEGIN:VEVENT
DTSTAMP:20260421T200243Z
UID:144-499434@knoxvilleunited.tithelysetup2.com
DTSTART:20261011T150000Z
DTEND:20261011T160000Z
CLASS:PUBLIC
CREATED:20260421T124844
DESCRIPTION:
LAST-MODIFIED:20260421T124844
LOCATION:
SUMMARY:Sunday School
URL;VALUE=URI:https://www.knoxvilleumc.org/events/sunday-school--144/2026-1
 0-11
END:VEVENT
END:VCALENDAR
