BEGIN:VCALENDAR
VERSION:2.0
PRODID:icalendar-ruby
CALSCALE:GREGORIAN
METHOD:PUBLISH
BEGIN:VEVENT
DTSTAMP:20260422T015232Z
UID:144-501140@knoxvilleunited.tithelysetup2.com
DTSTART:20261108T160000Z
DTEND:20261108T170000Z
CLASS:PUBLIC
CREATED:20260421T204125
DESCRIPTION:
LAST-MODIFIED:20260421T204125
LOCATION:
SUMMARY:Sunday School
URL;VALUE=URI:https://www.knoxvilleumc.org/events/sunday-school--144/2026-1
 1-08
END:VEVENT
END:VCALENDAR
