BEGIN:VCALENDAR
VERSION:2.0
PRODID:icalendar-ruby
CALSCALE:GREGORIAN
METHOD:PUBLISH
BEGIN:VEVENT
DTSTAMP:20260424T111855Z
UID:144-507994@knoxvilleunited.tithelysetup2.com
DTSTART:20261206T160000Z
DTEND:20261206T170000Z
CLASS:PUBLIC
CREATED:20260423T222324
DESCRIPTION:
LAST-MODIFIED:20260423T222324
LOCATION:
SUMMARY:Sunday School
URL;VALUE=URI:https://www.knoxvilleumc.org/events/sunday-school--144/2026-1
 2-06
END:VEVENT
END:VCALENDAR
