BEGIN:VCALENDAR
VERSION:2.0
PRODID:icalendar-ruby
CALSCALE:GREGORIAN
METHOD:PUBLISH
BEGIN:VEVENT
DTSTAMP:20260424T141220Z
UID:144-508569@knoxvilleunited.tithelysetup2.com
DTSTART:20261220T160000Z
DTEND:20261220T170000Z
CLASS:PUBLIC
CREATED:20260424T075125
DESCRIPTION:
LAST-MODIFIED:20260424T075125
LOCATION:
SUMMARY:Sunday School
URL;VALUE=URI:https://www.knoxvilleumc.org/events/sunday-school--144/2026-1
 2-20
END:VEVENT
END:VCALENDAR
