BEGIN:VCALENDAR
VERSION:2.0
PRODID:icalendar-ruby
CALSCALE:GREGORIAN
METHOD:PUBLISH
BEGIN:VEVENT
DTSTAMP:20260424T164545Z
UID:144-509144@knoxvilleunited.tithelysetup2.com
DTSTART:20270103T160000Z
DTEND:20270103T170000Z
CLASS:PUBLIC
CREATED:20260424T104403
DESCRIPTION:
LAST-MODIFIED:20260424T104403
LOCATION:
SUMMARY:Sunday School
URL;VALUE=URI:https://www.knoxvilleumc.org/events/sunday-school--144/2027-0
 1-03
END:VEVENT
END:VCALENDAR
