BEGIN:VCALENDAR
VERSION:2.0
PRODID:icalendar-ruby
CALSCALE:GREGORIAN
METHOD:PUBLISH
BEGIN:VEVENT
DTSTAMP:20260424T194152Z
UID:144-509719@knoxvilleunited.tithelysetup2.com
DTSTART:20270117T160000Z
DTEND:20270117T170000Z
CLASS:PUBLIC
CREATED:20260424T132927
DESCRIPTION:
LAST-MODIFIED:20260424T132927
LOCATION:
SUMMARY:Sunday School
URL;VALUE=URI:https://www.knoxvilleumc.org/events/sunday-school--144/2027-0
 1-17
END:VEVENT
END:VCALENDAR
