BEGIN:VCALENDAR
VERSION:2.0
PRODID:icalendar-ruby
CALSCALE:GREGORIAN
METHOD:PUBLISH
BEGIN:VEVENT
DTSTAMP:20260425T015121Z
UID:144-510870@knoxvilleunited.tithelysetup2.com
DTSTART:20270221T160000Z
DTEND:20270221T170000Z
CLASS:PUBLIC
CREATED:20260424T190505
DESCRIPTION:
LAST-MODIFIED:20260424T190505
LOCATION:
SUMMARY:Sunday School
URL;VALUE=URI:https://www.knoxvilleumc.org/events/sunday-school--144/2027-0
 2-21
END:VEVENT
END:VCALENDAR
