BEGIN:VCALENDAR
VERSION:2.0
PRODID:icalendar-ruby
CALSCALE:GREGORIAN
METHOD:PUBLISH
BEGIN:VEVENT
DTSTAMP:20260422T184047Z
UID:8-502676@knoxvilleunited.tithelysetup2.com
DTSTART:20260920T150000Z
DTEND:20260920T160000Z
CLASS:PUBLIC
CREATED:20260422T134008
DESCRIPTION:
LAST-MODIFIED:20260422T134008
LOCATION:303 S. Broad St\, Knoxville\, IL
SUMMARY:Sunday School
URL;VALUE=URI:https://www.knoxvilleumc.org/events/sunday-school/2026-09-20
END:VEVENT
END:VCALENDAR
