BEGIN:VCALENDAR
VERSION:2.0
PRODID:icalendar-ruby
CALSCALE:GREGORIAN
METHOD:PUBLISH
BEGIN:VEVENT
DTSTAMP:20260424T113832Z
UID:153-508133@knoxvilleunited.tithelysetup2.com
DTSTART:20260827T130000Z
DTEND:20260827T150000Z
CLASS:PUBLIC
CREATED:20260423T222324
DESCRIPTION:
LAST-MODIFIED:20260423T222324
LOCATION:
SUMMARY:T.O.P.S.
URL;VALUE=URI:https://www.knoxvilleumc.org/events/t-o-p-s--153/2026-08-27
END:VEVENT
END:VCALENDAR
