BEGIN:VCALENDAR
VERSION:2.0
PRODID:icalendar-ruby
CALSCALE:GREGORIAN
METHOD:PUBLISH
BEGIN:VEVENT
DTSTAMP:20260424T155932Z
UID:153-509282@knoxvilleunited.tithelysetup2.com
DTSTART:20260917T130000Z
DTEND:20260917T150000Z
CLASS:PUBLIC
CREATED:20260424T104403
DESCRIPTION:
LAST-MODIFIED:20260424T104403
LOCATION:
SUMMARY:T.O.P.S.
URL;VALUE=URI:https://www.knoxvilleumc.org/events/t-o-p-s--153/2026-09-17
END:VEVENT
END:VCALENDAR
