BEGIN:VCALENDAR
VERSION:2.0
PRODID:icalendar-ruby
CALSCALE:GREGORIAN
METHOD:PUBLISH
BEGIN:VEVENT
DTSTAMP:20260424T182753Z
UID:153-509284@knoxvilleunited.tithelysetup2.com
DTSTART:20261001T130000Z
DTEND:20261001T150000Z
CLASS:PUBLIC
CREATED:20260424T104403
DESCRIPTION:
LAST-MODIFIED:20260424T104403
LOCATION:
SUMMARY:T.O.P.S.
URL;VALUE=URI:https://www.knoxvilleumc.org/events/t-o-p-s--153/2026-10-01
END:VEVENT
END:VCALENDAR
