BEGIN:VCALENDAR
VERSION:2.0
PRODID:icalendar-ruby
CALSCALE:GREGORIAN
METHOD:PUBLISH
BEGIN:VEVENT
DTSTAMP:20260421T231000Z
UID:157-500819@knoxvilleunited.tithelysetup2.com
DTSTART:20261029T130000Z
DTEND:20261029T150000Z
CLASS:PUBLIC
CREATED:20260421T180308
DESCRIPTION:
LAST-MODIFIED:20260421T180308
LOCATION:
SUMMARY:T.O.P.S.
URL;VALUE=URI:https://www.knoxvilleumc.org/events/t-o-p-s/2026-10-29
END:VEVENT
END:VCALENDAR
