BEGIN:VCALENDAR
VERSION:2.0
PRODID:icalendar-ruby
CALSCALE:GREGORIAN
METHOD:PUBLISH
BEGIN:VEVENT
DTSTAMP:20260422T004212Z
UID:157-500820@knoxvilleunited.tithelysetup2.com
DTSTART:20261105T140000Z
DTEND:20261105T160000Z
CLASS:PUBLIC
CREATED:20260421T180308
DESCRIPTION:
LAST-MODIFIED:20260421T180308
LOCATION:
SUMMARY:T.O.P.S.
URL;VALUE=URI:https://www.knoxvilleumc.org/events/t-o-p-s/2026-11-05
END:VEVENT
END:VCALENDAR
