BEGIN:VCALENDAR
VERSION:2.0
PRODID:icalendar-ruby
CALSCALE:GREGORIAN
METHOD:PUBLISH
BEGIN:VEVENT
DTSTAMP:20260424T113801Z
UID:157-508250@knoxvilleunited.tithelysetup2.com
DTSTART:20270114T140000Z
DTEND:20270114T160000Z
CLASS:PUBLIC
CREATED:20260423T222325
DESCRIPTION:
LAST-MODIFIED:20260423T222325
LOCATION:
SUMMARY:T.O.P.S.
URL;VALUE=URI:https://www.knoxvilleumc.org/events/t-o-p-s/2027-01-14
END:VEVENT
END:VCALENDAR
