BEGIN:VCALENDAR
VERSION:2.0
PRODID:icalendar-ruby
CALSCALE:GREGORIAN
METHOD:PUBLISH
BEGIN:VEVENT
DTSTAMP:20260424T131129Z
UID:157-508824@knoxvilleunited.tithelysetup2.com
DTSTART:20270121T140000Z
DTEND:20270121T160000Z
CLASS:PUBLIC
CREATED:20260424T075125
DESCRIPTION:
LAST-MODIFIED:20260424T075125
LOCATION:
SUMMARY:T.O.P.S.
URL;VALUE=URI:https://www.knoxvilleumc.org/events/t-o-p-s/2027-01-21
END:VEVENT
END:VCALENDAR
