BEGIN:VCALENDAR
VERSION:2.0
PRODID:icalendar-ruby
CALSCALE:GREGORIAN
METHOD:PUBLISH
BEGIN:VEVENT
DTSTAMP:20260424T143912Z
UID:157-508825@knoxvilleunited.tithelysetup2.com
DTSTART:20270128T140000Z
DTEND:20270128T160000Z
CLASS:PUBLIC
CREATED:20260424T075125
DESCRIPTION:
LAST-MODIFIED:20260424T075125
LOCATION:
SUMMARY:T.O.P.S.
URL;VALUE=URI:https://www.knoxvilleumc.org/events/t-o-p-s/2027-01-28
END:VEVENT
END:VCALENDAR
