BEGIN:VCALENDAR
VERSION:2.0
PRODID:icalendar-ruby
CALSCALE:GREGORIAN
METHOD:PUBLISH
BEGIN:VEVENT
DTSTAMP:20260424T155636Z
UID:157-509399@knoxvilleunited.tithelysetup2.com
DTSTART:20270204T140000Z
DTEND:20270204T160000Z
CLASS:PUBLIC
CREATED:20260424T104404
DESCRIPTION:
LAST-MODIFIED:20260424T104404
LOCATION:
SUMMARY:T.O.P.S.
URL;VALUE=URI:https://www.knoxvilleumc.org/events/t-o-p-s/2027-02-04
END:VEVENT
END:VCALENDAR
