BEGIN:VCALENDAR
VERSION:2.0
PRODID:icalendar-ruby
CALSCALE:GREGORIAN
METHOD:PUBLISH
BEGIN:VEVENT
DTSTAMP:20260424T225935Z
UID:157-510550@knoxvilleunited.tithelysetup2.com
DTSTART:20270311T140000Z
DTEND:20270311T160000Z
CLASS:PUBLIC
CREATED:20260424T161724
DESCRIPTION:
LAST-MODIFIED:20260424T161724
LOCATION:
SUMMARY:T.O.P.S.
URL;VALUE=URI:https://www.knoxvilleumc.org/events/t-o-p-s/2027-03-11
END:VEVENT
END:VCALENDAR
