BEGIN:VCALENDAR
VERSION:2.0
PRODID:icalendar-ruby
CALSCALE:GREGORIAN
METHOD:PUBLISH
BEGIN:VEVENT
DTSTAMP:20260425T002031Z
UID:157-511124@knoxvilleunited.tithelysetup2.com
DTSTART:20270318T130000Z
DTEND:20270318T150000Z
CLASS:PUBLIC
CREATED:20260424T190506
DESCRIPTION:
LAST-MODIFIED:20260424T190506
LOCATION:
SUMMARY:T.O.P.S.
URL;VALUE=URI:https://www.knoxvilleumc.org/events/t-o-p-s/2027-03-18
END:VEVENT
END:VCALENDAR
