BEGIN:VCALENDAR
VERSION:2.0
PRODID:icalendar-ruby
CALSCALE:GREGORIAN
METHOD:PUBLISH
BEGIN:VEVENT
DTSTAMP:20260425T015643Z
UID:157-511125@knoxvilleunited.tithelysetup2.com
DTSTART:20270325T130000Z
DTEND:20270325T150000Z
CLASS:PUBLIC
CREATED:20260424T190506
DESCRIPTION:
LAST-MODIFIED:20260424T190506
LOCATION:
SUMMARY:T.O.P.S.
URL;VALUE=URI:https://www.knoxvilleumc.org/events/t-o-p-s/2027-03-25
END:VEVENT
END:VCALENDAR
