BEGIN:VCALENDAR
VERSION:2.0
PRODID:icalendar-ruby
CALSCALE:GREGORIAN
METHOD:PUBLISH
BEGIN:VEVENT
DTSTAMP:20260421T125607Z
UID:136-343089@knoxvilleunited.tithelysetup2.com
DTSTART:20260609T230000Z
DTEND:20260610T000000Z
CLASS:PUBLIC
CREATED:20260304T104529
DESCRIPTION:
LAST-MODIFIED:20260304T104529
LOCATION:
SUMMARY:Trustee Meeting
URL;VALUE=URI:https://www.knoxvilleumc.org/events/trustee-meeting--136/2026
 -06-09
END:VEVENT
END:VCALENDAR
