BEGIN:VCALENDAR
VERSION:2.0
PRODID:icalendar-ruby
CALSCALE:GREGORIAN
METHOD:PUBLISH
BEGIN:VEVENT
DTSTAMP:20260421T140844Z
UID:137-343090@knoxvilleunited.tithelysetup2.com
DTSTART:20260908T230000Z
DTEND:20260909T000000Z
CLASS:PUBLIC
CREATED:20260304T104610
DESCRIPTION:
LAST-MODIFIED:20260304T104610
LOCATION:
SUMMARY:Trustee Meeting
URL;VALUE=URI:https://www.knoxvilleumc.org/events/trustee-meeting--137/2026
 -09-08
END:VEVENT
END:VCALENDAR
