BEGIN:VCALENDAR
VERSION:2.0
PRODID:icalendar-ruby
CALSCALE:GREGORIAN
METHOD:PUBLISH
BEGIN:VEVENT
DTSTAMP:20260421T140757Z
UID:138-343091@knoxvilleunited.tithelysetup2.com
DTSTART:20261209T000000Z
DTEND:20261209T010000Z
CLASS:PUBLIC
CREATED:20260304T104727
DESCRIPTION:
LAST-MODIFIED:20260304T104727
LOCATION:
SUMMARY:Trustee Meeting
URL;VALUE=URI:https://www.knoxvilleumc.org/events/trustee-meeting--138/2026
 -12-08
END:VEVENT
END:VCALENDAR
