BEGIN:VCALENDAR
VERSION:2.0
PRODID:icalendar-ruby
CALSCALE:GREGORIAN
METHOD:PUBLISH
BEGIN:VEVENT
DTSTAMP:20260422T014830Z
UID:146-501167@knoxvilleunited.tithelysetup2.com
DTSTART:20261108T150000Z
DTEND:20261108T160000Z
CLASS:PUBLIC
CREATED:20260421T204125
DESCRIPTION:
LAST-MODIFIED:20260421T204125
LOCATION:
SUMMARY:Worship Service
URL;VALUE=URI:https://www.knoxvilleumc.org/events/worship-service--146/2026
 -11-08
END:VEVENT
END:VCALENDAR
