BEGIN:VCALENDAR
VERSION:2.0
PRODID:icalendar-ruby
CALSCALE:GREGORIAN
METHOD:PUBLISH
BEGIN:VEVENT
DTSTAMP:20260422T172613Z
UID:146-502314@knoxvilleunited.tithelysetup2.com
DTSTART:20270124T150000Z
DTEND:20270124T160000Z
CLASS:PUBLIC
CREATED:20260422T104540
DESCRIPTION:
LAST-MODIFIED:20260422T104540
LOCATION:
SUMMARY:Worship Service
URL;VALUE=URI:https://www.knoxvilleumc.org/events/worship-service--146/2027
 -01-24
END:VEVENT
END:VCALENDAR
