BEGIN:VCALENDAR
VERSION:2.0
PRODID:icalendar-ruby
CALSCALE:GREGORIAN
METHOD:PUBLISH
BEGIN:VEVENT
DTSTAMP:20260422T185832Z
UID:146-502883@knoxvilleunited.tithelysetup2.com
DTSTART:20270131T150000Z
DTEND:20270131T160000Z
CLASS:PUBLIC
CREATED:20260422T134009
DESCRIPTION:
LAST-MODIFIED:20260422T134009
LOCATION:
SUMMARY:Worship Service
URL;VALUE=URI:https://www.knoxvilleumc.org/events/worship-service--146/2027
 -01-31
END:VEVENT
END:VCALENDAR
