BEGIN:VCALENDAR
VERSION:2.0
PRODID:icalendar-ruby
CALSCALE:GREGORIAN
METHOD:PUBLISH
BEGIN:VEVENT
DTSTAMP:20260422T225650Z
UID:146-503454@knoxvilleunited.tithelysetup2.com
DTSTART:20270221T150000Z
DTEND:20270221T160000Z
CLASS:PUBLIC
CREATED:20260422T163543
DESCRIPTION:
LAST-MODIFIED:20260422T163543
LOCATION:
SUMMARY:Worship Service
URL;VALUE=URI:https://www.knoxvilleumc.org/events/worship-service--146/2027
 -02-21
END:VEVENT
END:VCALENDAR
