BEGIN:VCALENDAR
VERSION:2.0
PRODID:icalendar-ruby
CALSCALE:GREGORIAN
METHOD:PUBLISH
BEGIN:VEVENT
DTSTAMP:20260423T031214Z
UID:146-504027@knoxvilleunited.tithelysetup2.com
DTSTART:20270314T140000Z
DTEND:20270314T150000Z
CLASS:PUBLIC
CREATED:20260422T192700
DESCRIPTION:
LAST-MODIFIED:20260422T192700
LOCATION:
SUMMARY:Worship Service
URL;VALUE=URI:https://www.knoxvilleumc.org/events/worship-service--146/2027
 -03-14
END:VEVENT
END:VCALENDAR
