BEGIN:VCALENDAR
VERSION:2.0
PRODID:icalendar-ruby
CALSCALE:GREGORIAN
METHOD:PUBLISH
BEGIN:VEVENT
DTSTAMP:20260421T095820Z
UID:163-498012@knoxvilleunited.tithelysetup2.com
DTSTART:20260419T140000Z
DTEND:20260419T150000Z
CLASS:PUBLIC
CREATED:20260420T202517
DESCRIPTION:
LAST-MODIFIED:20260420T202517
LOCATION:
SUMMARY:Worship Service
URL;VALUE=URI:https://www.knoxvilleumc.org/events/worship-service--161/2026
 -04-19
END:VEVENT
END:VCALENDAR
