BEGIN:VCALENDAR
VERSION:2.0
PRODID:icalendar-ruby
CALSCALE:GREGORIAN
METHOD:PUBLISH
BEGIN:VEVENT
DTSTAMP:20260421T125607Z
UID:163-498581@knoxvilleunited.tithelysetup2.com
DTSTART:20260503T140000Z
DTEND:20260503T150000Z
CLASS:PUBLIC
CREATED:20260421T073255
DESCRIPTION:
LAST-MODIFIED:20260421T073255
LOCATION:
SUMMARY:Worship Service
URL;VALUE=URI:https://www.knoxvilleumc.org/events/worship-service--161/2026
 -05-03
END:VEVENT
END:VCALENDAR
