BEGIN:VCALENDAR
VERSION:2.0
PRODID:icalendar-ruby
CALSCALE:GREGORIAN
METHOD:PUBLISH
BEGIN:VEVENT
DTSTAMP:20260421T165957Z
UID:163-499151@knoxvilleunited.tithelysetup2.com
DTSTART:20260524T140000Z
DTEND:20260524T150000Z
CLASS:PUBLIC
CREATED:20260421T100833
DESCRIPTION:
LAST-MODIFIED:20260421T100833
LOCATION:
SUMMARY:Worship Service
URL;VALUE=URI:https://www.knoxvilleumc.org/events/worship-service--161/2026
 -05-24
END:VEVENT
END:VCALENDAR
