BEGIN:VCALENDAR
VERSION:2.0
PRODID:icalendar-ruby
CALSCALE:GREGORIAN
METHOD:PUBLISH
BEGIN:VEVENT
DTSTAMP:20260421T201043Z
UID:163-499720@knoxvilleunited.tithelysetup2.com
DTSTART:20260607T140000Z
DTEND:20260607T150000Z
CLASS:PUBLIC
CREATED:20260421T124844
DESCRIPTION:
LAST-MODIFIED:20260421T124844
LOCATION:
SUMMARY:Worship Service
URL;VALUE=URI:https://www.knoxvilleumc.org/events/worship-service--161/2026
 -06-07
END:VEVENT
END:VCALENDAR
