BEGIN:VCALENDAR
VERSION:2.0
PRODID:icalendar-ruby
CALSCALE:GREGORIAN
METHOD:PUBLISH
BEGIN:VEVENT
DTSTAMP:20260421T214618Z
UID:163-500288@knoxvilleunited.tithelysetup2.com
DTSTART:20260614T140000Z
DTEND:20260614T150000Z
CLASS:PUBLIC
CREATED:20260421T152428
DESCRIPTION:
LAST-MODIFIED:20260421T152428
LOCATION:
SUMMARY:Worship Service
URL;VALUE=URI:https://www.knoxvilleumc.org/events/worship-service--161/2026
 -06-14
END:VEVENT
END:VCALENDAR
