BEGIN:VCALENDAR
VERSION:2.0
PRODID:icalendar-ruby
CALSCALE:GREGORIAN
METHOD:PUBLISH
BEGIN:VEVENT
DTSTAMP:20260422T011809Z
UID:163-500858@knoxvilleunited.tithelysetup2.com
DTSTART:20260628T140000Z
DTEND:20260628T150000Z
CLASS:PUBLIC
CREATED:20260421T180308
DESCRIPTION:
LAST-MODIFIED:20260421T180308
LOCATION:
SUMMARY:Worship Service
URL;VALUE=URI:https://www.knoxvilleumc.org/events/worship-service--161/2026
 -06-28
END:VEVENT
END:VCALENDAR
