BEGIN:VCALENDAR
VERSION:2.0
PRODID:icalendar-ruby
CALSCALE:GREGORIAN
METHOD:PUBLISH
BEGIN:VEVENT
DTSTAMP:20260422T024356Z
UID:163-501427@knoxvilleunited.tithelysetup2.com
DTSTART:20260705T140000Z
DTEND:20260705T150000Z
CLASS:PUBLIC
CREATED:20260421T204126
DESCRIPTION:
LAST-MODIFIED:20260421T204126
LOCATION:
SUMMARY:Worship Service
URL;VALUE=URI:https://www.knoxvilleumc.org/events/worship-service--161/2026
 -07-05
END:VEVENT
END:VCALENDAR
