BEGIN:VCALENDAR
VERSION:2.0
PRODID:icalendar-ruby
CALSCALE:GREGORIAN
METHOD:PUBLISH
BEGIN:VEVENT
DTSTAMP:20260422T180524Z
UID:163-502574@knoxvilleunited.tithelysetup2.com
DTSTART:20260920T140000Z
DTEND:20260920T150000Z
CLASS:PUBLIC
CREATED:20260422T104541
DESCRIPTION:
LAST-MODIFIED:20260422T104541
LOCATION:
SUMMARY:Worship Service
URL;VALUE=URI:https://www.knoxvilleumc.org/events/worship-service--161/2026
 -09-20
END:VEVENT
END:VCALENDAR
