BEGIN:VCALENDAR
VERSION:2.0
PRODID:icalendar-ruby
CALSCALE:GREGORIAN
METHOD:PUBLISH
BEGIN:VEVENT
DTSTAMP:20260423T021917Z
UID:163-504286@knoxvilleunited.tithelysetup2.com
DTSTART:20261101T150000Z
DTEND:20261101T160000Z
CLASS:PUBLIC
CREATED:20260422T192700
DESCRIPTION:
LAST-MODIFIED:20260422T192700
LOCATION:
SUMMARY:Worship Service
URL;VALUE=URI:https://www.knoxvilleumc.org/events/worship-service--161/2026
 -11-01
END:VEVENT
END:VCALENDAR
